BEGIN:VCALENDAR
VERSION:2.0
PRODID:iCalendar-Evo
X-WR-TIMEZONE:US/Eastern
BEGIN:VEVENT
DTSTAMP:20260421THI4121Z
URL:https://www.nyack.gov/events/39388/
DTSTART;TZID=US/Eastern:20260409T190000
DTEND;TZID=US/Eastern:20260409T210000
SUMMARY:Village Board of Trustees Meeting 
DESCRIPTION:YouTube meeting livestream access link (public comment is in-person only): Village of Nyack YouTube Channel 
LOCATION:Village Hall at 9 N Broadway, Nyack , New York 10960
GEO:41.090699999969445;-73.91790000001689
UID:d01f9ef0-625e-4b44-893e-11b62a58619920260409T230000@www.nyack.gov
END:VEVENT
END:VCALENDAR