BEGIN:VCALENDAR
VERSION:2.0
PRODID:iCalendar-Evo
X-WR-TIMEZONE:US/Eastern
BEGIN:VEVENT
DTSTAMP:20260421THI4707Z
URL:https://www.nyack.gov/events/40841/
DTSTART;TZID=US/Eastern:20260413T190000
DTEND;TZID=US/Eastern:20260412T210000
SUMMARY:Planning Board
DESCRIPTION:
LOCATION:Village Hall at 9 N Broadway, Nyack , New York 10960
GEO:41.090699999969445;-73.91790000001689
UID:11440e65-da41-4fcb-961f-73d65dbcd07320260413T230000@www.nyack.gov
END:VEVENT
END:VCALENDAR